BEGIN:VCALENDAR
VERSION:2.0
PRODID:-//THE POWER OF EVENTS (UK) - ECPv6.15.13//NONSGML v1.0//EN
CALSCALE:GREGORIAN
METHOD:PUBLISH
X-ORIGINAL-URL:https://www.thepowerofevents.org
X-WR-CALDESC:Events for THE POWER OF EVENTS (UK)
REFRESH-INTERVAL;VALUE=DURATION:PT1H
X-Robots-Tag:noindex
X-PUBLISHED-TTL:PT1H
BEGIN:VTIMEZONE
TZID:Europe/London
BEGIN:DAYLIGHT
TZOFFSETFROM:+0000
TZOFFSETTO:+0100
TZNAME:BST
DTSTART:20220327T010000
END:DAYLIGHT
BEGIN:STANDARD
TZOFFSETFROM:+0100
TZOFFSETTO:+0000
TZNAME:GMT
DTSTART:20221030T010000
END:STANDARD
BEGIN:DAYLIGHT
TZOFFSETFROM:+0000
TZOFFSETTO:+0100
TZNAME:BST
DTSTART:20230326T010000
END:DAYLIGHT
BEGIN:STANDARD
TZOFFSETFROM:+0100
TZOFFSETTO:+0000
TZNAME:GMT
DTSTART:20231029T010000
END:STANDARD
BEGIN:DAYLIGHT
TZOFFSETFROM:+0000
TZOFFSETTO:+0100
TZNAME:BST
DTSTART:20240331T010000
END:DAYLIGHT
BEGIN:STANDARD
TZOFFSETFROM:+0100
TZOFFSETTO:+0000
TZNAME:GMT
DTSTART:20241027T010000
END:STANDARD
END:VTIMEZONE
BEGIN:VEVENT
DTSTART;VALUE=DATE:20230915
DTEND;VALUE=DATE:20230916
DTSTAMP:20260423T150311
CREATED:20230731T100115Z
LAST-MODIFIED:20230803T104003Z
UID:7073-1694736000-1694822399@www.thepowerofevents.org
SUMMARY:Exhibition News Indy Conference and Awards 2023
DESCRIPTION:The EN Indy Awards & Conference returns for their fourth annual edition with the addition of a marketplace expo this year. The awards are dedicated to recognising the achievements of independent show organisers\, teams and individuals\, and the conference is dedicated to exploring the key challenges facing independent organisers through a series of panel debates and roundtables.
URL:https://www.thepowerofevents.org/events-calendar/7073/
LOCATION:The Business Design Center\, 52 Upper St\,\, London\, N1 0QH\, United Kingdom
CATEGORIES:Exhibitions + Congress
ATTACH;FMTTYPE=image/jpeg:https://www.thepowerofevents.org/wp-content/uploads/2023/07/EN-Indy-BDC-Event-Image-jpg.webp
END:VEVENT
END:VCALENDAR