BEGIN:VCALENDAR
VERSION:2.0
PRODID:-//THE POWER OF EVENTS (UK) - ECPv6.15.13//NONSGML v1.0//EN
CALSCALE:GREGORIAN
METHOD:PUBLISH
X-ORIGINAL-URL:https://www.thepowerofevents.org
X-WR-CALDESC:Events for THE POWER OF EVENTS (UK)
REFRESH-INTERVAL;VALUE=DURATION:PT1H
X-Robots-Tag:noindex
X-PUBLISHED-TTL:PT1H
BEGIN:VTIMEZONE
TZID:Europe/London
BEGIN:DAYLIGHT
TZOFFSETFROM:+0000
TZOFFSETTO:+0100
TZNAME:BST
DTSTART:20220327T010000
END:DAYLIGHT
BEGIN:STANDARD
TZOFFSETFROM:+0100
TZOFFSETTO:+0000
TZNAME:GMT
DTSTART:20221030T010000
END:STANDARD
BEGIN:DAYLIGHT
TZOFFSETFROM:+0000
TZOFFSETTO:+0100
TZNAME:BST
DTSTART:20230326T010000
END:DAYLIGHT
BEGIN:STANDARD
TZOFFSETFROM:+0100
TZOFFSETTO:+0000
TZNAME:GMT
DTSTART:20231029T010000
END:STANDARD
BEGIN:DAYLIGHT
TZOFFSETFROM:+0000
TZOFFSETTO:+0100
TZNAME:BST
DTSTART:20240331T010000
END:DAYLIGHT
BEGIN:STANDARD
TZOFFSETFROM:+0100
TZOFFSETTO:+0000
TZNAME:GMT
DTSTART:20241027T010000
END:STANDARD
END:VTIMEZONE
BEGIN:VEVENT
DTSTART;VALUE=DATE:20230907
DTEND;VALUE=DATE:20230908
DTSTAMP:20260423T093215
CREATED:20230505T110409Z
LAST-MODIFIED:20230821T125422Z
UID:5751-1694044800-1694131199@www.thepowerofevents.org
SUMMARY:CN Sustainability Summit 2023
DESCRIPTION:Over the past few years\, sustainability has become a critical global priority due to our increasing awareness of the risks our planet faces without immediate action. Embracing the concept of sustainability is vital\, but it’s essential to first comprehend its meaning and implications. \nSuccessfully launched in 2022\, the CN Sustainability Summit is an ideal opportunity to examine what the events sector is doing well and identify areas for improvement. This event provides a platform to evaluate the industry’s sustainable impact\, discuss best practices and generate ideas on how to address the key issues hindering efforts to create a sustainable future for events.
URL:https://www.thepowerofevents.org/events-calendar/5751/
LOCATION:15Hatfields\, Chadwick Court\,\, London\, SE1 8DJ\, United Kingdom
CATEGORIES:Business + Brand Experiences,Exhibitions + Congress
ATTACH;FMTTYPE=image/jpeg:https://www.thepowerofevents.org/wp-content/uploads/2023/05/CN-Sustainability-Summit-2022-LR-92-jpg.webp
END:VEVENT
BEGIN:VEVENT
DTSTART;TZID=Europe/London:20230907T083000
DTEND;TZID=Europe/London:20230907T143000
DTSTAMP:20260423T093215
CREATED:20230202T143048Z
LAST-MODIFIED:20230202T143048Z
UID:3471-1694075400-1694097000@www.thepowerofevents.org
SUMMARY:20/20 'Conferencing' speed networking event at The Dilly
DESCRIPTION:DO YOU ORGANISE CONFERENCES\, AGM’S\, PRODUCT LAUNCHES\, AWARDS CEREMONIES\, ETC? DO YOU HIRE EVENT VENUES AND SUPPLIERS? \nSave yourself 30 days travelling around the UK by attending this one event! \nYour strength as an event organiser is simply measured by your contacts book and your ability to achieve results and deliver an event each time\, no matter how big or small. Your level of results are dependent on the level of seniority of your contacts within the event industry’s newest and most charismatic venues and suppliers? Has the covid lockdown annihilated your contacts book? Is it lost and outdated? Do suppliers not know ‘who you are’? Do you need the top contacts to make the difference between your next unique event being a Stand Out Event or a Go Home Event?
URL:https://www.thepowerofevents.org/events-calendar/3471/
LOCATION:The Dilly\, 21 Piccadilly\, London\, W1J 0BH
CATEGORIES:Exhibitions + Congress
ATTACH;FMTTYPE=image/png:https://www.thepowerofevents.org/wp-content/uploads/2023/02/Screenshot-2023-02-02-at-11.24.09.png
END:VEVENT
END:VCALENDAR