BEGIN:VCALENDAR
VERSION:2.0
PRODID:-//THE POWER OF EVENTS (UK) - ECPv6.15.13//NONSGML v1.0//EN
CALSCALE:GREGORIAN
METHOD:PUBLISH
X-WR-CALNAME:THE POWER OF EVENTS (UK)
X-ORIGINAL-URL:https://www.thepowerofevents.org
X-WR-CALDESC:Events for THE POWER OF EVENTS (UK)
REFRESH-INTERVAL;VALUE=DURATION:PT1H
X-Robots-Tag:noindex
X-PUBLISHED-TTL:PT1H
BEGIN:VTIMEZONE
TZID:Europe/London
BEGIN:DAYLIGHT
TZOFFSETFROM:+0000
TZOFFSETTO:+0100
TZNAME:BST
DTSTART:20220327T010000
END:DAYLIGHT
BEGIN:STANDARD
TZOFFSETFROM:+0100
TZOFFSETTO:+0000
TZNAME:GMT
DTSTART:20221030T010000
END:STANDARD
BEGIN:DAYLIGHT
TZOFFSETFROM:+0000
TZOFFSETTO:+0100
TZNAME:BST
DTSTART:20230326T010000
END:DAYLIGHT
BEGIN:STANDARD
TZOFFSETFROM:+0100
TZOFFSETTO:+0000
TZNAME:GMT
DTSTART:20231029T010000
END:STANDARD
BEGIN:DAYLIGHT
TZOFFSETFROM:+0000
TZOFFSETTO:+0100
TZNAME:BST
DTSTART:20240331T010000
END:DAYLIGHT
BEGIN:STANDARD
TZOFFSETFROM:+0100
TZOFFSETTO:+0000
TZNAME:GMT
DTSTART:20241027T010000
END:STANDARD
END:VTIMEZONE
BEGIN:VEVENT
DTSTART;VALUE=DATE:20230710
DTEND;VALUE=DATE:20230714
DTSTAMP:20260424T160823
CREATED:20230517T084126Z
LAST-MODIFIED:20230522T102954Z
UID:5824-1688947200-1689292799@www.thepowerofevents.org
SUMMARY:The Ops Nest
DESCRIPTION:We’re heading to The NEC\, Birmingham for the next edition of Ops Foundation. \nCare to join us? \nFour days of high-octane ops training. \nWe’ll be exploring the venue\, getting hands on with rigging and electrics\, experiencing AV like never before with PSP Exhibitions\, navigating forklifts and customs with DSV – Global Transport and Logistics\, understanding the strength of a good graphics brief with Bang On Graphics\, building system with beMatrix \, learning scheduling\, budgeting\, our place in the industry and much more! \nWe also have some very special guests dropping in to impart their wisdom including Adam Parry of Event Industry News\, Marisa Beckman of Inovent and Michelle Adderley of NEC Birmingham.
URL:https://www.thepowerofevents.org/events-calendar/5824/
LOCATION:The Nec\, North Ave\, Marston Green\,\, Birmingham\, B40 1NT\, United Kingdom
CATEGORIES:Exhibitions + Congress
ATTACH;FMTTYPE=image/png:https://www.thepowerofevents.org/wp-content/uploads/2023/05/Ops-Foundation-logo-light-background.png
END:VEVENT
BEGIN:VEVENT
DTSTART;VALUE=DATE:20230710
DTEND;VALUE=DATE:20230716
DTSTAMP:20260424T160823
CREATED:20230221T100638Z
LAST-MODIFIED:20230221T100923Z
UID:5047-1688947200-1689465599@www.thepowerofevents.org
SUMMARY:Certificate in Venue Management - Summer Course in London
DESCRIPTION:Event venues require professional organisational skills and an ability to manage a wide range of events including conferences\, exhibitions\, product launches\, congresses\, conventions\, weddings\, sports\, concerts\, competitions\, community and special events.
URL:https://www.thepowerofevents.org/events-calendar/5047/
LOCATION:ExCeL London\, Royal Victoria Dock\, 1 Western Gateway\, London\, E16 1XL\, United Kingdom
CATEGORIES:Bespoke Sports Events,Business + Brand Experiences,Exhibitions + Congress,Music + Live Performances,Public + Third Sector,Weddings + Private Events
ATTACH;FMTTYPE=image/jpeg:https://www.thepowerofevents.org/wp-content/uploads/2023/02/0bc32021fb5742e083e49a532a4c7e3b-Small.jpeg
END:VEVENT
BEGIN:VEVENT
DTSTART;VALUE=DATE:20230710
DTEND;VALUE=DATE:20230716
DTSTAMP:20260424T160823
CREATED:20230221T101559Z
LAST-MODIFIED:20230221T101559Z
UID:5060-1688947200-1689465599@www.thepowerofevents.org
SUMMARY:Certificate in Leadership and Management - Summer Course in London
DESCRIPTION:Whether you’re at an early stage of your career and aiming for promotion or entering a supervisory or team leader role for the first time –  a professional  development course in leadership and management can improve your skills and prospects.
URL:https://www.thepowerofevents.org/events-calendar/5060/
LOCATION:ExCeL London\, Royal Victoria Dock\, 1 Western Gateway\, London\, E16 1XL\, United Kingdom
CATEGORIES:Bespoke Sports Events,Business + Brand Experiences,Exhibitions + Congress,Music + Live Performances,Outdoor Events + Festivals,Public + Third Sector,Weddings + Private Events
ATTACH;FMTTYPE=image/jpeg:https://www.thepowerofevents.org/wp-content/uploads/2023/02/95eb8462730c43979c1fb8c26b83e5be.jpeg
END:VEVENT
END:VCALENDAR